BEGIN:VCALENDAR
VERSION:2.0
PRODID:-//wp-events-plugin.com//7.2.3.1//EN
TZID:America/Chicago
X-WR-TIMEZONE:America/Chicago
BEGIN:VEVENT
UID:1037@havefunbiking.com
DTSTART;TZID=America/Chicago:20240919T170000
DTEND;TZID=America/Chicago:20240921T210000
DTSTAMP:20240611T172401Z
URL:https://havefunbiking.com/events/tomassoni-tour-cycle-for-als/
SUMMARY:Tomassoni Tour - Cycle for ALS
DESCRIPTION:Join us September 19 - 21\, 2024\, for the Tomassoni Tour - Cyc
 le for ALS on the beautiful Mesabi Trail. Depending on their comfort level
 \, cyclists can choose between two different ride lengths: full (120 total
  miles over 2 days) or half (60 total miles over 2 days). E-bikes are welc
 ome!\nCycle for ALS participation\nParticipants will fundraise at least $1
 \,000 for ALS and earn incentive prizes for raising beyond the minimum. In
 cluded in the tour is 3 nights of lodging\, meals\, entertainment\, trail 
 support\, and more.  Register today!\nAbout ALS\nAmyotrophic Lateral Scl
 erosis (also known as ALS or Lou Gehrig’s Disease)\, affects over 18\,00
 0 people in the United States. Every 90 minutes\, someone is diagnosed\, a
 nd someone passes away from ALS. There is currently no cure for ALS and on
 ly 3 drug treatment options available to people living with ALS. Our goal 
 is fairly simple at Never Surrender Inc.: We want to help those with ALS w
 hile also helping find a cure.\n\nCan't make it? Register as a virtual cyc
 list and choose your own mileage and location!
ATTACH;FMTTYPE=image/jpeg:https://havefunbiking.com/wp-content/uploads/202
 4/06/tt.jpg
CATEGORIES:Recreational Multi-Day Tour
LOCATION:Fortune Bay Resort Casino\, 1430 Bois Forte Rd\, Tower\, MN\, 5579
 0\, United States
X-APPLE-STRUCTURED-LOCATION;VALUE=URI;X-ADDRESS=1430 Bois Forte Rd\, Tower\
 , MN\, 55790\, United States;X-APPLE-RADIUS=100;X-TITLE=Fortune Bay Resort
  Casino:geo:0,0
END:VEVENT
BEGIN:VTIMEZONE
TZID:America/Chicago
X-LIC-LOCATION:America/Chicago
BEGIN:DAYLIGHT
DTSTART:20240310T030000
TZOFFSETFROM:-0600
TZOFFSETTO:-0500
TZNAME:CDT
END:DAYLIGHT
END:VTIMEZONE
END:VCALENDAR