BEGIN:VCALENDAR
VERSION:2.0
PRODID:-//wp-events-plugin.com//7.2.3.1//EN
TZID:America/Chicago
X-WR-TIMEZONE:America/Chicago
BEGIN:VEVENT
UID:1257@havefunbiking.com
DTSTART;TZID=America/Chicago;VALUE=DATE:20250801
DTEND;TZID=America/Chicago;VALUE=DATE:20250804
DTSTAMP:20250413T221255Z
URL:https://havefunbiking.com/events/the-highground-41st-annual-heroes-rid
 e-bike-tour/
SUMMARY:The Highground 41st Annual Heroes Ride Bike Tour
DESCRIPTION:Join one of Wisconsin’s largest bike rides that helps support
  Veterans. Formerly known as The Highground Annual Bike Tour\, the Heroes 
 Ride is the largest and longest-running fundraiser on the first weekend in
  August. Every year at this time\, five rides from all over the state with
  over 100 riders converge on The Highground Veterans Park in Neillsville\,
  WI. This year\, August 1 - 3\, the ride starts in Appleton\, Hayward\, La
 Crosse\, and New Richmond\, with a south route starting location soon to b
 e announced.\n\nAbout that Heroes Ride Bike Tour\nRiders plus SAG personne
 l join together to bolster the organization’s efforts to provide Veteran
 s and their families\nsupport and resources to help them heal from the wou
 nds of war.\nThe Highground offers PTS/PTSD programs and Veterans Retreats
  along with the tranquility of being on the “high ground”.\n\n\nClick 
 here https://thehighgroundheroesride.com/join-the-ride/ for more informati
 on and registration.
ATTACH;FMTTYPE=image/jpeg:https://havefunbiking.com/wp-content/uploads/202
 5/04/cropped-HereoesRideQuantico.png
CATEGORIES:Recreational Multi-Day Tour
END:VEVENT
BEGIN:VTIMEZONE
TZID:America/Chicago
X-LIC-LOCATION:America/Chicago
BEGIN:DAYLIGHT
DTSTART:20250309T030000
TZOFFSETFROM:-0600
TZOFFSETTO:-0500
TZNAME:CDT
END:DAYLIGHT
END:VTIMEZONE
END:VCALENDAR