BEGIN:VCALENDAR
VERSION:2.0
PRODID:-//wp-events-plugin.com//7.2.3.1//EN
TZID:America/Chicago
X-WR-TIMEZONE:America/Chicago
BEGIN:VEVENT
UID:568@havefunbiking.com
DTSTART;TZID=America/Chicago;VALUE=DATE:20210223
DTEND;TZID=America/Chicago;VALUE=DATE:20210225
DTSTAMP:20210222T033905Z
URL:https://havefunbiking.com/events/test/
SUMMARY:Test
DESCRIPTION:test
CATEGORIES:Mountain Bike Event
LOCATION:Test\, Rt 2\, St paul\, MN\, 55124\, United States
X-APPLE-STRUCTURED-LOCATION;VALUE=URI;X-ADDRESS=Rt 2\, St paul\, MN\, 55124
 \, United States;X-APPLE-RADIUS=100;X-TITLE=Test:geo:0,0
END:VEVENT
BEGIN:VTIMEZONE
TZID:America/Chicago
X-LIC-LOCATION:America/Chicago
BEGIN:STANDARD
DTSTART:20201101T010000
TZOFFSETFROM:-0500
TZOFFSETTO:-0600
TZNAME:CST
END:STANDARD
END:VTIMEZONE
END:VCALENDAR