BEGIN:VCALENDAR
VERSION:2.0
PRODID:-//wp-events-plugin.com//7.2.3.1//EN
TZID:America/Chicago
X-WR-TIMEZONE:America/Chicago
BEGIN:VEVENT
UID:317@havefunbiking.com
DTSTART;TZID=America/Chicago:20190602T071500
DTEND;TZID=America/Chicago:20190602T140000
DTSTAMP:20190315T114607Z
URL:https://havefunbiking.com/events/robs-sugar-river-ramble-3/
SUMMARY:Rob's Sugar River Ramble
DESCRIPTION:Connect with the Upper Sugar River Watershed by land and water 
 as you cycle through the beautiful countryside\, then paddle the Sugar Riv
 er until you reach your destination near Paoli\, WI. Transportation and a 
 locally-sourced lunch is included! Visit our website for more information 
 on the route\, food\, entertainment and more!\n\nCost: $45 for adults befo
 re midnight May 6\, $50 for adults after May 6 until midnight May 30. $10 
 for children 12 &amp\; under. Advanced registration only.\n\nCanoe/Kayak r
 ental: Canoes or single-person kayaks can be rented for an extra $40 (incl
 udes paddles\, life jacket and transportation)\n\nAll proceeds support the
  Upper Sugar River Watershed Association\, a non-profit organization that 
 provides leadership for natural resource improvement through partnerships 
 that benefit the watershed’s land\, water and people.
ATTACH;FMTTYPE=image/jpeg:https://havefunbiking.com/wp-content/uploads/201
 9/02/RobsSugarRiverRambleFINALno-date-BLUE-300x233.png
CATEGORIES:Multi-Sport Event,Recreational Day Ride
LOCATION:Grundahl Park\, Mt Horeb\, 400 Blue Mounds St\, Mt Horeb\, WI\, 53
 572\, United States
GEO:43.0054991;-89.74527289999997
X-APPLE-STRUCTURED-LOCATION;VALUE=URI;X-ADDRESS=400 Blue Mounds St\, Mt Hor
 eb\, WI\, 53572\, United States;X-APPLE-RADIUS=100;X-TITLE=Grundahl Park\,
  Mt Horeb:geo:43.0054991,-89.74527289999997
END:VEVENT
BEGIN:VTIMEZONE
TZID:America/Chicago
X-LIC-LOCATION:America/Chicago
BEGIN:DAYLIGHT
DTSTART:20190310T030000
TZOFFSETFROM:-0600
TZOFFSETTO:-0500
TZNAME:CDT
END:DAYLIGHT
END:VTIMEZONE
END:VCALENDAR