BEGIN:VCALENDAR
VERSION:2.0
PRODID:-//wp-events-plugin.com//7.2.3.1//EN
TZID:America/Chicago
X-WR-TIMEZONE:America/Chicago
BEGIN:VEVENT
UID:49@havefunbiking.com
DTSTART;TZID=America/Chicago:20170604T073000
DTEND;TZID=America/Chicago:20170604T140000
DTSTAMP:20170106T000146Z
URL:https://havefunbiking.com/events/robs-sugar-river-ramble-2/
SUMMARY:Rob's Sugar River Ramble
DESCRIPTION:Connect with the Upper Sugar River Watershed by land and water 
 as you cycle through the beautiful countryside beginning in Mount Horeb\, 
 WI\, then paddle the sparkling Sugar River until you reach your destinatio
 n near Paoli\, WI. After the event\, get transported back to Mount Horeb w
 ith your fellow participants for a locally-sourced feast\, beer tasting an
 d entertainment from 11 am-2 pm\nBoat rentals are available but space is l
 imited. Go to usrwa.org/ramble for more details and logistical information
 .
CATEGORIES:Multi-Sport Event
LOCATION:Grundahl Park\, Mt Horeb\, 400 Blue Mounds St\, Mt Horeb\, WI\, 53
 572\, United States
GEO:43.0054991;-89.74527289999997
X-APPLE-STRUCTURED-LOCATION;VALUE=URI;X-ADDRESS=400 Blue Mounds St\, Mt Hor
 eb\, WI\, 53572\, United States;X-APPLE-RADIUS=100;X-TITLE=Grundahl Park\,
  Mt Horeb:geo:43.0054991,-89.74527289999997
END:VEVENT
BEGIN:VTIMEZONE
TZID:America/Chicago
X-LIC-LOCATION:America/Chicago
BEGIN:DAYLIGHT
DTSTART:20170312T030000
TZOFFSETFROM:-0600
TZOFFSETTO:-0500
TZNAME:CDT
END:DAYLIGHT
END:VTIMEZONE
END:VCALENDAR