BEGIN:VCALENDAR
VERSION:2.0
PRODID:-//wp-events-plugin.com//7.2.3.1//EN
TZID:America/Chicago
X-WR-TIMEZONE:America/Chicago
BEGIN:VEVENT
UID:1106@havefunbiking.com
DTSTART;TZID=America/Chicago;VALUE=DATE:20250907
DTEND;TZID=America/Chicago;VALUE=DATE:20250914
DTSTAMP:20250111T221605Z
URL:https://havefunbiking.com/events/ridemn1-minnesotas-only-state-crossin
 g-3/
SUMMARY:RideMN1 - Minnesota's Only State Crossing
DESCRIPTION:RideMN1 is Minnesota's only State Crossing. In our 9th year\, w
 e are a cancer awareness organization with no fundraising requirements.\nA
 bout RideMN1\nThe tour includes 21 meals\, 7 nights camping\, motelling\, 
 luggage transport &amp\; SAG support. The motorcoach option will get you t
 o the start and back from the endpoints. Registration is limited to 30 and
  opens February 1st. Join us for a different Ride\, and you will become pa
 rt of our team - "We Are Biking To End Cancer."\n\nFind more information a
 nd to register here.
ATTACH;FMTTYPE=image/jpeg:https://havefunbiking.com/wp-content/uploads/202
 4/12/RideMN1-2021-Group-B.jpg
CATEGORIES:Recreational Multi-Day Tour
LOCATION:Running the Border - Red River to Lake Superior\, 24111 445th Plac
 e\, Aitkin\, MN\, 56431\, United States
X-APPLE-STRUCTURED-LOCATION;VALUE=URI;X-ADDRESS=24111 445th Place\, Aitkin\
 , MN\, 56431\, United States;X-APPLE-RADIUS=100;X-TITLE=Running the Border
  - Red River to Lake Superior:geo:0,0
END:VEVENT
BEGIN:VTIMEZONE
TZID:America/Chicago
X-LIC-LOCATION:America/Chicago
BEGIN:DAYLIGHT
DTSTART:20250309T030000
TZOFFSETFROM:-0600
TZOFFSETTO:-0500
TZNAME:CDT
END:DAYLIGHT
END:VTIMEZONE
END:VCALENDAR