BEGIN:VCALENDAR
VERSION:2.0
PRODID:-//wp-events-plugin.com//7.2.3.1//EN
TZID:America/Chicago
X-WR-TIMEZONE:America/Chicago
BEGIN:VEVENT
UID:107@havefunbiking.com
DTSTART;TZID=America/Chicago;VALUE=DATE:20170909
DTEND;TZID=America/Chicago;VALUE=DATE:20170916
DTSTAMP:20170907T125604Z
URL:https://havefunbiking.com/events/ridemn1-annual-bike-tour/
SUMMARY:RideMN1 Annual Bike Tour
DESCRIPTION:Minnesota Hwy #1 from Oslo MN (on the North Dakota border) to I
 llgen City (on Lake Superior). 346 miles - 7 days (including 1 day layover
  in Ely).\nSee all of Minnesota from the Red River Valley\, through The Re
 d Lake Nation and several National and State Forests and 'Sawbill' country
  to Lake Superior. This is Minnesota's most pristine country and you will 
 not be disappointed! Bring your camera!\nThis is a Fully Supported Ride - 
 including SAG\, porta potties\, and gear transport.\nSeveral options for p
 articipation - all inclusive with single occupancy motel\, tenting (shower
 s every night)\, or single day. All meals are included.\nDetails and Regis
 tration at RideMN1.org\nWe are a 501(c)3 dedicated to ending cancer. Pleas
 e contact us with any questions.
CATEGORIES:Recreational Multi-Day Tour
END:VEVENT
BEGIN:VTIMEZONE
TZID:America/Chicago
X-LIC-LOCATION:America/Chicago
BEGIN:DAYLIGHT
DTSTART:20170312T030000
TZOFFSETFROM:-0600
TZOFFSETTO:-0500
TZNAME:CDT
END:DAYLIGHT
END:VTIMEZONE
END:VCALENDAR