BEGIN:VCALENDAR
VERSION:2.0
PRODID:-//wp-events-plugin.com//7.2.3.1//EN
TZID:America/Chicago
X-WR-TIMEZONE:America/Chicago
BEGIN:VEVENT
UID:27@havefunbiking.com
DTSTART;TZID=America/Chicago:20160917T070000
DTEND;TZID=America/Chicago:20160917T180000
DTSTAMP:20160505T130431Z
URL:https://havefunbiking.com/events/ride-the-ridges/
SUMMARY:Ride The Ridges
DESCRIPTION:Ride The Ridges provides four alternative routes through the Bl
 ufflands of Southeastern Minnesota. From the bluffs overlooking the Missis
 sippi River to lush valleys along meandering streams\, riders enjoy scenic
  vistas while traveling fun and challenging routes ranging from 18 to 106 
 miles. SAG support is provided and friendly volunteers staff rest stops st
 ocked with nutritious snacks and sports drinks. Hosted by the Winona Rotar
 y Club\, proceeds from Ride The Ridges are donated to Feed My Starving Chi
 ldren\, Kids' Summer Lunch Program and Rotary Literacy Projects. Visit the
  website at www.RideTheRidges.info
CATEGORIES:Recreational Day Ride
LOCATION:Minnesota State College - Southeast Techniccal\, 1250 Homer Road\,
  Winona\, MN\, 55987\, United States
GEO:44.0245825;-91.61932860000002
X-APPLE-STRUCTURED-LOCATION;VALUE=URI;X-ADDRESS=1250 Homer Road\, Winona\, 
 MN\, 55987\, United States;X-APPLE-RADIUS=100;X-TITLE=Minnesota State Coll
 ege - Southeast Techniccal:geo:44.0245825,-91.61932860000002
END:VEVENT
BEGIN:VTIMEZONE
TZID:America/Chicago
X-LIC-LOCATION:America/Chicago
BEGIN:DAYLIGHT
DTSTART:20160313T030000
TZOFFSETFROM:-0600
TZOFFSETTO:-0500
TZNAME:CDT
END:DAYLIGHT
END:VTIMEZONE
END:VCALENDAR