BEGIN:VCALENDAR
VERSION:2.0
PRODID:-//wp-events-plugin.com//7.2.3.1//EN
TZID:America/Chicago
X-WR-TIMEZONE:America/Chicago
BEGIN:VEVENT
UID:1007@havefunbiking.com
DTSTART;TZID=America/Chicago:20250706T080000
DTEND;TZID=America/Chicago:20250707T140000
DTSTAMP:20250617T180259Z
URL:https://havefunbiking.com/events/ride-hiawatha-bike-ride/
SUMMARY:Ride Hiawatha
DESCRIPTION:Experience the fun of touring in the western suburbs on Ride Hi
 awatha on July 7th. This is the Hiawatha Bicycling Club (HBC) signature bi
 ke ride. Each year\, HBC leads family rides throughout the Twin Cities\, a
 nd this one is especially special. Their sponsors for this event include L
 uce Line Brewing\, with SAG support from Trailhead Cycling.\nMore info on 
 Ride Hiawatha\n\n 	Choose your ride - 20\, 40\, or 60 miles\, suitable for
  all bike types\, including e-bikes\n 	 Trailhead Cycling provides full S
 AG support\n 	 3 rest stops with lots of goodies\n 	 Enjoy a well-deserv
 ed Luce Line Brewing beverage with your fellow riders at the end.\n\nRegis
 ter here today and save. 
ATTACH;FMTTYPE=image/jpeg:https://havefunbiking.com/wp-content/uploads/202
 3/08/HFB_1234.jpg
CATEGORIES:Recreational Day Ride
LOCATION:Luce Line Brewing\, 12901 16th Ave. N\, Plymouth\, MN\, 55441\, Un
 ited States
X-APPLE-STRUCTURED-LOCATION;VALUE=URI;X-ADDRESS=12901 16th Ave. N\, Plymout
 h\, MN\, 55441\, United States;X-APPLE-RADIUS=100;X-TITLE=Luce Line Brewin
 g:geo:0,0
END:VEVENT
BEGIN:VTIMEZONE
TZID:America/Chicago
X-LIC-LOCATION:America/Chicago
BEGIN:DAYLIGHT
DTSTART:20250309T030000
TZOFFSETFROM:-0600
TZOFFSETTO:-0500
TZNAME:CDT
END:DAYLIGHT
END:VTIMEZONE
END:VCALENDAR