BEGIN:VCALENDAR
VERSION:2.0
PRODID:-//wp-events-plugin.com//7.2.3.1//EN
TZID:America/Chicago
X-WR-TIMEZONE:America/Chicago
BEGIN:VEVENT
UID:41@havefunbiking.com
DTSTART;TZID=America/Chicago;VALUE=DATE:20160917
DTEND;TZID=America/Chicago;VALUE=DATE:20160918
DTSTAMP:20160801T152904Z
URL:https://havefunbiking.com/events/purpleridestride/
SUMMARY:PurpleRideStride
DESCRIPTION:Join us for the 10th annual PurpleRideStride in Maple Grove! En
 joy the beautiful paved trails in Elm Creek Regional Park on an 8\, 25 or 
 50 mile ride\, or a 5K walk/run. In addition to your scenic ride\, enjoy l
 ive music &amp\; activities in the Purple Village. We have a Purple Play Z
 one geared for kids with inflatables\, henna painting and caricatures for 
 no charge. This event raises hope and funding for Pancreatic Cancer resear
 ch and patient support.
CATEGORIES:Recreational Day Ride
LOCATION:Elm Creek Park\, 12400 James Deane Pkwy\, Maple Grove\, MN\, Unite
 d States
GEO:45.1385598;-93.43705769999997
X-APPLE-STRUCTURED-LOCATION;VALUE=URI;X-ADDRESS=12400 James Deane Pkwy\, Ma
 ple Grove\, MN\, United States;X-APPLE-RADIUS=100;X-TITLE=Elm Creek Park:g
 eo:45.1385598,-93.43705769999997
END:VEVENT
BEGIN:VTIMEZONE
TZID:America/Chicago
X-LIC-LOCATION:America/Chicago
BEGIN:DAYLIGHT
DTSTART:20160313T030000
TZOFFSETFROM:-0600
TZOFFSETTO:-0500
TZNAME:CDT
END:DAYLIGHT
END:VTIMEZONE
END:VCALENDAR