BEGIN:VCALENDAR
VERSION:2.0
PRODID:-//wp-events-plugin.com//7.2.3.1//EN
TZID:America/Chicago
X-WR-TIMEZONE:America/Chicago
BEGIN:VEVENT
UID:472@havefunbiking.com
DTSTART;TZID=America/Chicago;VALUE=DATE:20200918
DTEND;TZID=America/Chicago;VALUE=DATE:20200920
DTSTAMP:20200118T223458Z
URL:https://havefunbiking.com/events/potosi-tour-de-pints/
SUMMARY:Potosi Tour de Pints
DESCRIPTION:Let's journey on the Potosi Tour de Pints! This scenic ride tak
 es you along the beautiful Mississippi River with beer tastings\, local co
 mmunity charm\, and great food.\n\nJoin us for a scenic ride through the D
 riftless area. An active biking experience nestled beside the beautiful Mi
 ssissippi River on the Great River Road. This tour allows you to ride thro
 ugh some of the most beautiful landscapes that Wisconsin has to offer\, an
 d it doesn’t end there. You’ll bike and enjoy beer tastings\, local co
 mmunity charm\, and great food.\n\nWe’ll explore on roads\, bike paths\,
  and trails at a casual pace. You’ll get unbelievable views of the Missi
 ssippi River using the freedom of bicycles to explore. All of our tour gui
 des possess threefold expertise in beer\, cycling\, and local insight. You
 'll be welcomed back to Potosi Brewing Company for an evening of celebrati
 on\, including local food\, live music\, and of course\, great Craft Beer.
 \n\nWe invite you to join us for the Potosi Tour de Pints event—a bike a
 nd brews expedition. Get Tickets at potositourdepints.com\, and find us on
  Facebook.\n\nDaily Itinerary\nFriday\, September 18\, 2020\nIf you're joi
 ning us Friday in preparation for Saturday's ride\, join us on a Slow Your
  Roll Friday "Fun" ride. Starting from Potosi Brewing Company Facilities\,
  we'll get warmed up with a guided pre-ride to Lancaster\, WI starting at 
 1:00 PM. You'll also have the choice to do a ride on your own if you like.
  We will provide route information\, and you can journey on your own.\n\nO
 ur Friday ride is entirely optional.\n\nSaturday\, September 19\, 2020\nSa
 turday\, our day begins at Potosi Brewing Company Facility at 9:00 AM shar
 p\, and we will ride the countryside. Our Saturday ride will consist of a 
 50-mile round trip with a 2500 elevation (multiple ride lengths will be av
 ailable). We will leave Potosi and journey to Dickeyville\, and have lunch
  and some craft beer at Gooch's Greenhouse in Kieler. We'll continue our j
 ourney from Kieler to Platteville and then head back to Potosi to end our 
 day. We'll enjoy Live Music\, Food\, and Craft Brews back at the Potosi Br
 ewery facilities.\n\nThis Tour de Pints event will help you quickly realiz
 e why this local region has thriving local breweries and businesses\, with
  spectacular scenic views. It’s a destination worth experiencing on a bi
 ke.\n\nCOURSE BENEFITS\nWell organized ride through Potosi Brewing Company
 \nSafest most scenic routes\nTurn-by-turn RIDE W/GPS navigation\nSupport v
 ehicles offering sag services\nIncredible staff &amp\; volunteers who have
  your back\nCharming local communities &amp\; businesses
ATTACH;FMTTYPE=image/jpeg:https://havefunbiking.com/wp-content/uploads/202
 0/01/Tour-de-Pints-Final_RGB_700x700.png
CATEGORIES:Recreational Multi-Day Tour
LOCATION:Potosi Brewery\, 209 South Main Street\, Potosi\, Wisconsin\, 5382
 0\, United States
X-APPLE-STRUCTURED-LOCATION;VALUE=URI;X-ADDRESS=209 South Main Street\, Pot
 osi\, Wisconsin\, 53820\, United States;X-APPLE-RADIUS=100;X-TITLE=Potosi 
 Brewery:geo:0,0
END:VEVENT
BEGIN:VTIMEZONE
TZID:America/Chicago
X-LIC-LOCATION:America/Chicago
BEGIN:DAYLIGHT
DTSTART:20200308T030000
TZOFFSETFROM:-0600
TZOFFSETTO:-0500
TZNAME:CDT
END:DAYLIGHT
END:VTIMEZONE
END:VCALENDAR