BEGIN:VCALENDAR
VERSION:2.0
PRODID:-//wp-events-plugin.com//7.2.3.1//EN
TZID:America/Chicago
X-WR-TIMEZONE:America/Chicago
BEGIN:VEVENT
UID:1198@havefunbiking.com
DTSTART;TZID=America/Indiana/Indianapolis:20250517T100000
DTEND;TZID=America/Indiana/Indianapolis:20250517T133000
DTSTAMP:20250303T211008Z
URL:https://havefunbiking.com/events/new-rider-callout/
SUMMARY:New Rider Callout
DESCRIPTION:The Wabash River Cycle Club (WRCC) is hosting its annual New Ri
 der Callout on Saturday\, May 17th\, from 10 am to 2 pm at Cumberland Park
 \, South Shelter #1 in West Lafayette\, IN.\nMore on the New Rider Callout
  event\nDonut (&amp\; fruit) social hour starts at 10 am to meet fellow ri
 ders\, and our ride leaders will help you choose the appropriate ride for 
 your interests and cycling needs.\n\nThere are four different rides (varyi
 ng from leisurely 3-mile trail rides to 1-2 hour rides through Tippecanoe 
 County) leaving from the park at 11 am and returning by 1 pm for lunch\, p
 rovided by the WRCC.
CATEGORIES:Recreational Day Ride
END:VEVENT
BEGIN:VTIMEZONE
TZID:America/Indiana/Indianapolis
X-LIC-LOCATION:America/Indiana/Indianapolis
BEGIN:DAYLIGHT
DTSTART:20250309T030000
TZOFFSETFROM:-0500
TZOFFSETTO:-0400
TZNAME:EDT
END:DAYLIGHT
END:VTIMEZONE
END:VCALENDAR