BEGIN:VCALENDAR
VERSION:2.0
PRODID:-//wp-events-plugin.com//7.2.3.1//EN
TZID:America/Chicago
X-WR-TIMEZONE:America/Chicago
BEGIN:VEVENT
UID:1167@havefunbiking.com
DTSTART;TZID=America/Chicago:20250621T060000
DTEND;TZID=America/Chicago:20250621T140000
DTSTAMP:20250301T014610Z
URL:https://havefunbiking.com/events/lake-minnetonka-triathlon/
SUMMARY:Lake Minnetonka Triathlon
DESCRIPTION:The Lake Minnetonka Triathlon Inc. is now officially classified
  as a non-profit charitable organization under the IRS\, meaning donations
  are tax-deductible. Our goal in 2025 is to raise $40\,000\, and we would 
 love your support!\n\nPlease consider partnering with us in our mission to
  give back to the community while also providing a unique opportunity for 
 high-visibility brand exposure for your business.
ATTACH;FMTTYPE=image/jpeg:https://havefunbiking.com/wp-content/uploads/202
 5/02/ScreenShot-Tool-20250215100540.png
CATEGORIES:Multi-Sport Event
LOCATION:Excelsior Commons\, 135 Lake Street\, Excelsior \, Minnesota\, 550
 60\, United States
X-APPLE-STRUCTURED-LOCATION;VALUE=URI;X-ADDRESS=135 Lake Street\, Excelsior
  \, Minnesota\, 55060\, United States;X-APPLE-RADIUS=100;X-TITLE=Excelsior
  Commons:geo:0,0
END:VEVENT
BEGIN:VTIMEZONE
TZID:America/Chicago
X-LIC-LOCATION:America/Chicago
BEGIN:DAYLIGHT
DTSTART:20250309T030000
TZOFFSETFROM:-0600
TZOFFSETTO:-0500
TZNAME:CDT
END:DAYLIGHT
END:VTIMEZONE
END:VCALENDAR