BEGIN:VCALENDAR
VERSION:2.0
PRODID:-//wp-events-plugin.com//7.2.3.1//EN
TZID:America/Chicago
X-WR-TIMEZONE:America/Chicago
BEGIN:VEVENT
UID:2086@havefunbiking.com
DTSTART;TZID=America/Chicago:20260725T080000
DTEND;TZID=America/Chicago:20260725T120000
DTSTAMP:20260413T174133Z
URL:https://havefunbiking.com/events/kolacky-days-tour-de-bun-gravel-rides
 /
SUMMARY:Kolacky Days Tour de Bun & Gravel Rides
DESCRIPTION:Come and join us for the Tour de Bun bike event in the heart of
  Minnesota Czech Country\, in scenic Le Sueur County\, on Kolacky Days Sat
 urday!\n\nThe Kolacky Days routes consist of three overlapping loops and t
 wo gravel routes. For the recreational day ride\, choose: the 15-mile Stat
 ková Jízda (Homestead Ride)\, which is an out-and-back\, the 32-mile Osa
 dnický Okruh (Pioneer Loop)\, and the 48-mile Okruh Zelených Akrů (Gree
 n Acres Loop). Since 2024\, the Kolacky Days Gravel Ride has included a 25
 -mile Twin Lakes Loop and a 44-mile Union Lake Trail loop ride.\n\nAfter t
 he Tour\, riders will have plenty of time to participate in all the Kolack
 y Days weekend festivities
ATTACH;FMTTYPE=image/jpeg:https://havefunbiking.com/wp-content/uploads/202
 6/03/2026-Kolacky-Days-Button.jpg
CATEGORIES:Gravel,Recreational Day Ride
END:VEVENT
BEGIN:VTIMEZONE
TZID:America/Chicago
X-LIC-LOCATION:America/Chicago
BEGIN:DAYLIGHT
DTSTART:20260308T030000
TZOFFSETFROM:-0600
TZOFFSETTO:-0500
TZNAME:CDT
END:DAYLIGHT
END:VTIMEZONE
END:VCALENDAR