BEGIN:VCALENDAR
VERSION:2.0
PRODID:-//wp-events-plugin.com//7.2.3.1//EN
TZID:America/Chicago
X-WR-TIMEZONE:America/Chicago
BEGIN:VEVENT
UID:603@havefunbiking.com
DTSTART;TZID=America/Chicago:20210925T063000
DTEND;TZID=America/Chicago:20210925T150000
DTSTAMP:20210809T123622Z
URL:https://havefunbiking.com/events/heartland-century-tour-ride-by-the-qu
 ad-cities-bike-club/
SUMMARY:Heartland Century & Tour Ride by the Quad /Cities Bike Club
DESCRIPTION:The Heartland Century &amp\; Tour Ride is a great way to spend 
 a fall Saturday riding some of the most beautiful scenery in Illinois. The
  Quad Cities Bike Club annual late-summer classic ride gives you that oppo
 rtunity\, on September 25th. Starting in beautiful downtown Geneseo this r
 ide has something for everybody. The route is designed in a 4 leaf clover 
 fashion with each loop approximately 25 miles. Your options are you can ri
 de a short leisure/family ride\, opt for a Metric Century are complete all
  four loops for your 100-mile century. Everything starts and ends at the p
 arking area of the Geneseo Brewing Company.\n\nAt the Geneseo Brewing Comp
 any parking lot\, you'll find the centrally located SAG stop with all kind
 s of fuel and a rest area to help you keep rolling back out on the course 
 for more. After riding enjoy a free lunch\, some cool refreshments\, and l
 ive music at the Geneseo Brewing Company. For more information and to regi
 ster click here.
ATTACH;FMTTYPE=image/jpeg:https://havefunbiking.com/wp-content/uploads/202
 1/08/2021-Heartland-Tour-and-Century-08.09.21smaller.jpg
CATEGORIES:Recreational Day Ride
LOCATION:Geneseo Brewing Company\, 102 S State Street\, Geneseo\, Illinois\
 , 61254\, United States
X-APPLE-STRUCTURED-LOCATION;VALUE=URI;X-ADDRESS=102 S State Street\, Genese
 o\, Illinois\, 61254\, United States;X-APPLE-RADIUS=100;X-TITLE=Geneseo Br
 ewing Company:geo:0,0
END:VEVENT
BEGIN:VTIMEZONE
TZID:America/Chicago
X-LIC-LOCATION:America/Chicago
BEGIN:DAYLIGHT
DTSTART:20210314T030000
TZOFFSETFROM:-0600
TZOFFSETTO:-0500
TZNAME:CDT
END:DAYLIGHT
END:VTIMEZONE
END:VCALENDAR