BEGIN:VCALENDAR
VERSION:2.0
PRODID:-//wp-events-plugin.com//7.2.3.1//EN
TZID:America/Chicago
X-WR-TIMEZONE:America/Chicago
BEGIN:VEVENT
UID:141@havefunbiking.com
DTSTART;TZID=America/Chicago;VALUE=DATE:20180804
DTEND;TZID=America/Chicago;VALUE=DATE:20180805
DTSTAMP:20180120T005259Z
URL:https://havefunbiking.com/events/great-river-energy-mesabi-trail-tour/
SUMMARY:Great River Energy Mesabi Trail Tour
DESCRIPTION:Enjoy this unique riding experience on the Mesabi Trail\, NE Mi
 nnesota's premier paved bicycle trail. The tour is designed for serious ri
 ders and families alike\, choose from four different routes of 71\, 52\, 2
 5\, or 11 miles - traveling from Bovey\, Nashwauk\, Buhl or Virginia to th
 e slam bang finish in Eveleth. This year all routes will cross one of the 
 tallest bridges in Minnesota via the Mesabi Trail. Entry includes a t-shir
 t\, picnic dinner and music at finish\, rest stops with food and entertain
 ment\, transportation for riders and their bicycles.
ATTACH;FMTTYPE=image/jpeg:https://havefunbiking.com/wp-content/uploads/201
 8/01/Hibbing-arch-credit-Seaquest-Productions.jpg
CATEGORIES:Recreational Day Ride
LOCATION:Mesabi Trail - Bovey to Eveleth\, 111 Station 44 Road \, Eveleth \
 , MN\, 55734\, United States
GEO:47.4622752;-92.5167778
X-APPLE-STRUCTURED-LOCATION;VALUE=URI;X-ADDRESS=111 Station 44 Road \, Evel
 eth \, MN\, 55734\, United States;X-APPLE-RADIUS=100;X-TITLE=Mesabi Trail 
 - Bovey to Eveleth:geo:47.4622752,-92.5167778
END:VEVENT
BEGIN:VTIMEZONE
TZID:America/Chicago
X-LIC-LOCATION:America/Chicago
BEGIN:DAYLIGHT
DTSTART:20180311T030000
TZOFFSETFROM:-0600
TZOFFSETTO:-0500
TZNAME:CDT
END:DAYLIGHT
END:VTIMEZONE
END:VCALENDAR