BEGIN:VCALENDAR
VERSION:2.0
PRODID:-//wp-events-plugin.com//7.2.3.1//EN
TZID:America/Chicago
X-WR-TIMEZONE:America/Chicago
BEGIN:VEVENT
UID:572@havefunbiking.com
DTSTART;TZID=America/Chicago:20210918T080000
DTEND;TZID=America/Chicago:20210918T160000
DTSTAMP:20210310T155548Z
URL:https://havefunbiking.com/events/great-river-energy-mesabi-trail-tour-
 series/
SUMMARY:Great River Energy Mesabi Trail Tour Series #3
DESCRIPTION:Enjoy this unique riding experience on the Mesabi Trail\, one o
 f Minnesota's premier paved bicycle trails. Designed for serious riders &a
 mp\; families alike\, Tour #3 of the three tour series will travel from Vi
 rginia to Hibbing and back. The entry includes a t-shirt\, rest stops with
  food &amp\; entertainment\, picnic lunch &amp\; music at the finish. COVI
 D precautions will be taken.\nMore about the Great River Energy Mesabi Tra
 il Tour Series\nIf you have ridden with us before\, here are the changes y
 ou will see for 2021:\n\n 	Instead of one big tour in August - choose from
  three tours throughout the biking season!\n 	Instead of one long linear r
 oute - each tour will travel out &amp\; back on the Mesabi Trail from the 
 same location.\n 	Instead of four linear routes - choose from two routes o
 f about 25 &amp\; 50 miles\, out &amp\; back on the Trail.\n 	Instead of a
 ccepting an unlimited number of riders - the number of riders per tour wil
 l be limited for safety and to meet any State mandates.\n 	Instead of open
 ing registration in January - registration will open six weeks before each
  tour to allow for any modifications due to the virus's status.\n\nChoose 
 From Three Different Tours\nTour #1 - July 31\, 2021\nStart &amp\; finish
  at the Minnesota Discovery Center in Chisholm.\nRegistration opens June 1
 9th\n\nTour #2 - August 28\, 2021\nStart &amp\; finish at the Itasca Coun
 ty Fairground in Grand Rapids.\nRegistration opens July 19th\n\nTour #3 -
  September\, 18\, 2021\nStart &amp\; finish at Olcott Park in Virginia.\nR
 egistration opens August 16th.\n\nThe tours are a fundraiser for the Mesab
 i Trail and Club Mesabi.\n\n&nbsp\;\n\n&nbsp\;
CATEGORIES:Recreational Day Ride
LOCATION:Virginia Olcott Park - out &amp\; back on the Mesabi Trail\, 910 9
 th St So \, Virginia\, MN\, 55792 \, United States
X-APPLE-STRUCTURED-LOCATION;VALUE=URI;X-ADDRESS=910 9th St So \, Virginia\,
  MN\, 55792 \, United States;X-APPLE-RADIUS=100;X-TITLE=Virginia Olcott Pa
 rk - out & back on the Mesabi Trail:geo:0,0
END:VEVENT
BEGIN:VTIMEZONE
TZID:America/Chicago
X-LIC-LOCATION:America/Chicago
BEGIN:DAYLIGHT
DTSTART:20210314T030000
TZOFFSETFROM:-0600
TZOFFSETTO:-0500
TZNAME:CDT
END:DAYLIGHT
END:VTIMEZONE
END:VCALENDAR