BEGIN:VCALENDAR
VERSION:2.0
PRODID:-//wp-events-plugin.com//7.2.3.1//EN
TZID:America/Chicago
X-WR-TIMEZONE:America/Chicago
BEGIN:VEVENT
UID:1162@havefunbiking.com
DTSTART;TZID=America/Chicago:20250419T080000
DTEND;TZID=America/Chicago:20250419T120000
DTSTAMP:20250301T211127Z
URL:https://havefunbiking.com/events/fat-happy-spring-thaw-gravel-bike-rac
 e/
SUMMARY:Fat & Happy Spring Thaw
DESCRIPTION:Get ready for The Fat &amp\; Happy Spring Thaw race on April 19
 th\, Hugo\, MN.\nAll you need to do is register\, dust off those bikes\, a
 nd pedal your way to victory at the Spring Thaw. \nDon't let your cozy win
 ter blankets or couch cushions hold you back - saddle up\, feel the wind i
 n your hair\, and show those fat tires who's boss! It's time to ride like 
 the wind and leave your couch-potato days in the dust!\n\nFor more Spring 
 Thaw info\nDiscover course options\, including gravel and paved roadways. 
 Hear!\n
ATTACH;FMTTYPE=image/jpeg:https://havefunbiking.com/wp-content/uploads/202
 5/02/c35c37_ee564b643904436fb545e5319f333796mv2.webp
CATEGORIES:Mountain Bike Event
LOCATION:Liberty Classical Academy\, 10158 122nd St N\, Hugo\, Minnesota\, 
 55038\, United States
X-APPLE-STRUCTURED-LOCATION;VALUE=URI;X-ADDRESS=10158 122nd St N\, Hugo\, M
 innesota\, 55038\, United States;X-APPLE-RADIUS=100;X-TITLE=Liberty Classi
 cal Academy:geo:0,0
END:VEVENT
BEGIN:VTIMEZONE
TZID:America/Chicago
X-LIC-LOCATION:America/Chicago
BEGIN:DAYLIGHT
DTSTART:20250309T030000
TZOFFSETFROM:-0600
TZOFFSETTO:-0500
TZNAME:CDT
END:DAYLIGHT
END:VTIMEZONE
END:VCALENDAR