BEGIN:VCALENDAR
VERSION:2.0
PRODID:-//wp-events-plugin.com//7.2.3.1//EN
TZID:America/Chicago
X-WR-TIMEZONE:America/Chicago
BEGIN:VEVENT
UID:77@havefunbiking.com
DTSTART;TZID=America/Chicago:20170802T180000
DTEND;TZID=America/Chicago:20170802T203000
DTSTAMP:20170314T021031Z
URL:https://havefunbiking.com/events/dirt-cup-mountain-bike-sprint-4/
SUMMARY:Dirt Cup Mountain Bike Sprint
DESCRIPTION:Test your speed and skill be competing in a time trial format o
 n a 10+ mile singletrack loop. Awards\, door prizes and good times at ever
 y race. Divisions include men's\, women's\, and U-17. Additional races at 
 Elm Creek Park Reserve and Lake Rebecca Park Reserve\; weekly competitors 
 add their top four finishes for a chance at being the Dirt Cup Champion. R
 egistration starts at 6 PM\; race start is 7 PM (rain dates: 6:30 PM.) Che
 ck ThreeRiversParks.org for updates\, race changes\, and weather concerns.
  Sponsored by Maple Grove Cycling and Freewheel Bikes. $12 pre-registratio
 n\; $15 day-of\; $50 for al six races. Ages: 14+.\n\nTo register\, visit T
 hreeRiversParks.org or call 763-559-6700.
CATEGORIES:Mountain Bike Event
LOCATION:Murphy-Hanrehan Park Reserve\, 15501 Murphy Lake Road\, Savage\, M
 innesota\, 55378\, United States
GEO:44.7189598;-93.34128670000001
X-APPLE-STRUCTURED-LOCATION;VALUE=URI;X-ADDRESS=15501 Murphy Lake Road\, Sa
 vage\, Minnesota\, 55378\, United States;X-APPLE-RADIUS=100;X-TITLE=Murphy
 -Hanrehan Park Reserve:geo:44.7189598,-93.34128670000001
END:VEVENT
BEGIN:VTIMEZONE
TZID:America/Chicago
X-LIC-LOCATION:America/Chicago
BEGIN:DAYLIGHT
DTSTART:20170312T030000
TZOFFSETFROM:-0600
TZOFFSETTO:-0500
TZNAME:CDT
END:DAYLIGHT
END:VTIMEZONE
END:VCALENDAR