BEGIN:VCALENDAR
VERSION:2.0
PRODID:-//wp-events-plugin.com//7.2.3.1//EN
TZID:America/Chicago
X-WR-TIMEZONE:America/Chicago
BEGIN:VEVENT
UID:2081@havefunbiking.com
DTSTART;TZID=America/Chicago:20260524T070000
DTEND;TZID=America/Chicago:20260524T160000
DTSTAMP:20260306T231954Z
URL:https://havefunbiking.com/events/chippewa-valley-century-ride-5/
SUMMARY:Chippewa Valley Century Ride
DESCRIPTION:Starting in Chippewa Falls\, WI\, the Chippewa Valley Century R
 ide is a not-for-profit bike ride that benefits needs in the Chippewa Vall
 ey. Our courses include 35-\, 50-\, 75-\, or 100-mile options\, all on bla
 cktop roads. The entry fee covers four rest stops\, water stops\, support 
 vehicles\, and a full meal featuring brats\, soda\, and beer at the end.\n
 \nRiders register and check in from 7 am to 10 am\, then immediately start
  the Ride. www.cvcride.org for more information and the registration form.
ATTACH;FMTTYPE=image/jpeg:https://havefunbiking.com/wp-content/uploads/202
 6/03/CVCR-Poster-2026-small.jpg
CATEGORIES:Recreational Day Ride
LOCATION:Northern Wisconsin State Fairgrounds\, 225 Edward Street\, Chippew
 a Falls\, WI\, 54729\, Midwest\, United States
X-APPLE-STRUCTURED-LOCATION;VALUE=URI;X-ADDRESS=225 Edward Street\, Chippew
 a Falls\, WI\, 54729\, Midwest\, United States;X-APPLE-RADIUS=100;X-TITLE=
 Northern Wisconsin State Fairgrounds:geo:0,0
END:VEVENT
BEGIN:VTIMEZONE
TZID:America/Chicago
X-LIC-LOCATION:America/Chicago
BEGIN:DAYLIGHT
DTSTART:20260308T030000
TZOFFSETFROM:-0600
TZOFFSETTO:-0500
TZNAME:CDT
END:DAYLIGHT
END:VTIMEZONE
END:VCALENDAR