BEGIN:VCALENDAR
VERSION:2.0
PRODID:-//wp-events-plugin.com//7.2.3.1//EN
TZID:America/Chicago
X-WR-TIMEZONE:America/Chicago
BEGIN:VEVENT
UID:1131@havefunbiking.com
DTSTART;TZID=America/Chicago:20250525T070000
DTEND;TZID=America/Chicago:20250525T173000
DTSTAMP:20250118T234541Z
URL:https://havefunbiking.com/events/chippewa-valley-century-ride-4/
SUMMARY:Chippewa Valley Century Ride
DESCRIPTION:\n\n\nGear up for a milestone celebration!  Ride the 39th ann
 iversary of the Chippewa Valley Century Ride (CVCR) with four routes. On M
 ay 25th\, the CVCR marks nearly four decades of incredible cycling\, commu
 nity spirit\, and support for local causes.  Be a part of this special ye
 ar as we pedal through the Chippewa Valley's scenic beauty and continue th
 is beloved event's tradition.\n\n​Experience the Beauty of the Chippewa 
 Valley!\nThe Chippewa Valley Century Ride is a non-profit cycling event th
 at showcases the stunning scenery of Chippewa County. Choose your challeng
 e with 35\, 50\, 75\, or 100-mile routes winding through picturesque farml
 and\, along the Chippewa and Flambeau Rivers\, past Lakes Wissota and Holc
 ombe\, and through the unique kettle moraine topography of the Chippewa Co
 unty Forest.  All four routes are on blacktop roads and start and end at 
 the Northern Wisconsin State Fairgrounds (225 Edward St\, Chippewa Falls\,
  WI).\n\n​Your Ride Includes:\n\n 	\nFully supported routes: Four full-s
 ervice rest stops with snacks\, refreshments\, and restrooms\, plus water 
 stops and support vehicles to keep you going strong.\n\n 	\nDelicious post
 -ride meal: Enjoy locally made brats with all the fixings\, soda\, and Lei
 nenkugel’s beer (vegetarian option available with advance registration).
 \n\n 	\nSupport a great cause: 100% of proceeds benefit hunger task force 
 agencies\, local parks\, youth organizations\, and those with special need
 s in the Chippewa Valley.\n\n 	Riders register and check-in from 7 -10 a.m
 . and immediately start the Ride. www.cvcride.org for more information and
  registration form.\n\nNEW Location: Join us for a pre-ride get-together!\
 nKick off the Chippewa Valley Century Ride with a pre-ride party at Spring
  Street Sports (12 W Spring St\, Chippewa Falls\, WI) in downtown Chippewa
  Falls! Join fellow riders and the CVCR team on Saturday\, May 24th\, from
  6 to 8 p.m. for a fun and casual get-together. It's the perfect opportuni
 ty to relax\, connect with other cyclists\, share stories and tips\, enjoy
  food and drinks\, and get excited for the big ride!  Stay tuned for more
  details as we get closer to the event.​\n\n\n\n
ATTACH;FMTTYPE=image/jpeg:https://havefunbiking.com/wp-content/uploads/202
 5/01/CVCR-2025-8.5X11-POSTER-1.jpg
CATEGORIES:Recreational Day Ride
LOCATION:Northern Wisconsin State Fairgrounds\, 225 Edward Street\, Chippew
 a Falls\, WI\, 54729\, Midwest\, United States
X-APPLE-STRUCTURED-LOCATION;VALUE=URI;X-ADDRESS=225 Edward Street\, Chippew
 a Falls\, WI\, 54729\, Midwest\, United States;X-APPLE-RADIUS=100;X-TITLE=
 Northern Wisconsin State Fairgrounds:geo:0,0
END:VEVENT
BEGIN:VTIMEZONE
TZID:America/Chicago
X-LIC-LOCATION:America/Chicago
BEGIN:DAYLIGHT
DTSTART:20250309T030000
TZOFFSETFROM:-0600
TZOFFSETTO:-0500
TZNAME:CDT
END:DAYLIGHT
END:VTIMEZONE
END:VCALENDAR