BEGIN:VCALENDAR
VERSION:2.0
PRODID:-//wp-events-plugin.com//7.2.3.1//EN
TZID:America/Chicago
X-WR-TIMEZONE:America/Chicago
BEGIN:VEVENT
UID:1166@havefunbiking.com
DTSTART;TZID=America/Chicago:20250315T090000
DTEND;TZID=America/Chicago:20250315T090000
DTSTAMP:20250301T015323Z
URL:https://havefunbiking.com/events/bobs-lookout-foundation-5k/
SUMMARY:Bob's Lookout Foundation 5K
DESCRIPTION:The race is on March 15\, and we have a passion for giving back
  to the local community\, emphasizing those in need. Empowering local volu
 nteers to unite as a team through fundraising events\, activities\, and co
 mmunity involvement to make a better community for all.\n\nSee more at htt
 ps://www.andersonraces.com/new-events/2025/lookout5k
ATTACH;FMTTYPE=image/jpeg:https://havefunbiking.com/wp-content/uploads/202
 5/02/ScreenShot-Tool-20250215100013.png
CATEGORIES:Non-Biking Event
LOCATION:Lookout Bar and Grill\, 8672 Pineview Lane North\, Maple Grove \, 
 Minnesota\, 55369\, United States
X-APPLE-STRUCTURED-LOCATION;VALUE=URI;X-ADDRESS=8672 Pineview Lane North\, 
 Maple Grove \, Minnesota\, 55369\, United States;X-APPLE-RADIUS=100;X-TITL
 E=Lookout Bar and Grill:geo:0,0
END:VEVENT
BEGIN:VTIMEZONE
TZID:America/Chicago
X-LIC-LOCATION:America/Chicago
BEGIN:DAYLIGHT
DTSTART:20250309T030000
TZOFFSETFROM:-0600
TZOFFSETTO:-0500
TZNAME:CDT
END:DAYLIGHT
END:VTIMEZONE
END:VCALENDAR