BEGIN:VCALENDAR
VERSION:2.0
PRODID:-//wp-events-plugin.com//7.2.3.1//EN
TZID:America/Chicago
X-WR-TIMEZONE:America/Chicago
BEGIN:VEVENT
UID:811@havefunbiking.com
DTSTART;TZID=America/Chicago:20230711T150000
DTEND;TZID=America/Chicago:20230716T150000
DTSTAMP:20230517T163708Z
URL:https://havefunbiking.com/events/bikebuildhome500-ride/
SUMMARY:BikeBuildHome500 Ride
DESCRIPTION:Looking for a unique way to enjoy the beauty of the Driftless R
 egion while giving back to the community?\n\nBike.Build.Home 500 is an ann
 ual\, multi-day bicycle ride that raises funds for local affordable housin
 g organizations.  And\, Habitat for Humanity La Crosse Area is proud to b
 e the host for this year’s ride. A tradition previously coordinated by H
 umanity of Minnesota. In its 30-year history\, bike riders raised over $7 
 million to build affordable homes.\nWhat to expect on this year's BikeBuil
 dHome500 Ride\nThis year\, the 5-day\, 500-kilometer ride will run from Ju
 ly 12-16. Riders will stay at a “base camp” located at Luther High Sch
 ool in Onalaska. Each day’s ride will loop through different areas of th
 e beautiful Driftless Region. The first day will be a beautiful Tri-State 
 Century loop along the Mississippi River to Lansing\, Iowa. This relativel
 y flat route through the center of the Driftless region includes many scen
 ic photo ops.\n\nFind more at https://www.habitatlacrosse.org/bikebuildhom
 e-500.html
CATEGORIES:Recreational Multi-Day Tour
LOCATION:Luther High School\, 1501 Wilson St\, Onalaska\, Wisconsin\, 54650
 \, Western Wisconsin\, United States
X-APPLE-STRUCTURED-LOCATION;VALUE=URI;X-ADDRESS=1501 Wilson St\, Onalaska\,
  Wisconsin\, 54650\, Western Wisconsin\, United States;X-APPLE-RADIUS=100;
 X-TITLE=Luther High School:geo:0,0
END:VEVENT
BEGIN:VTIMEZONE
TZID:America/Chicago
X-LIC-LOCATION:America/Chicago
BEGIN:DAYLIGHT
DTSTART:20230312T030000
TZOFFSETFROM:-0600
TZOFFSETTO:-0500
TZNAME:CDT
END:DAYLIGHT
END:VTIMEZONE
END:VCALENDAR