BEGIN:VCALENDAR
VERSION:2.0
PRODID:-//wp-events-plugin.com//7.2.3.1//EN
TZID:America/Chicago
X-WR-TIMEZONE:America/Chicago
BEGIN:VEVENT
UID:139@havefunbiking.com
DTSTART;TZID=America/Chicago;VALUE=DATE:20180818
DTEND;TZID=America/Chicago;VALUE=DATE:20180820
DTSTAMP:20180117T163932Z
URL:https://havefunbiking.com/events/bike-van-buren-xxxii/
SUMMARY:Bike Van Buren XXXII
DESCRIPTION:Enjoy a fun-filled weekend while exploring all of the historic 
 Villages of Van Buren. This is a casual\, family-oriented bicycle ride thr
 ough Van Buren County\, Iowa. You'll enjoy some of the finest hospitality 
 around with SAG support and numerous food/drink stops along the route.
CATEGORIES:Recreational Multi-Day Tour
LOCATION:Keosauqua City Park\, 100 Van Buren St.\, Keosauqua\, Iowa\, 52565
 \, Southeast Iowa\, United States
GEO:40.7298006;-91.9611607
X-APPLE-STRUCTURED-LOCATION;VALUE=URI;X-ADDRESS=100 Van Buren St.\, Keosauq
 ua\, Iowa\, 52565\, Southeast Iowa\, United States;X-APPLE-RADIUS=100;X-TI
 TLE=Keosauqua City Park:geo:40.7298006,-91.9611607
END:VEVENT
BEGIN:VTIMEZONE
TZID:America/Chicago
X-LIC-LOCATION:America/Chicago
BEGIN:DAYLIGHT
DTSTART:20180311T030000
TZOFFSETFROM:-0600
TZOFFSETTO:-0500
TZNAME:CDT
END:DAYLIGHT
END:VTIMEZONE
END:VCALENDAR