BEGIN:VCALENDAR
VERSION:2.0
PRODID:-//wp-events-plugin.com//7.2.3.1//EN
TZID:America/Chicago
X-WR-TIMEZONE:America/Chicago
BEGIN:VEVENT
UID:245@havefunbiking.com
DTSTART;TZID=America/Chicago:20180922T100000
DTEND;TZID=America/Chicago:20180922T170000
DTSTAMP:20180912T155032Z
URL:https://havefunbiking.com/events/bike-brew-fest-walker/
SUMMARY:3rd Annual Save Summer Bike & Brew Fest
DESCRIPTION:Join us for the 3rd annual Summer Bike &amp\; Brew Fest a celeb
 ration of bikes\, beers\, and fall fun. Details below:\nBike &amp\; Brew F
 est Ride\n- A casual\, 23 mile\, self-supported bike ride that will begin 
 at 10AM (registration starts at 9) just off the Shingobee Connection Trail
  in front of Chase on the Lake Resort\n- For route details\, see map here 
 (https://www.blackriver.cc/rides/32517)\n\nPARTY:\n- Noon start at Portage
  Brewing Company\n- New beer release\n- Special edition Save Summer shirt 
 release\n- Food offerings from Chase on the Lake Resort\n- Live music happ
 ening\, but the band is TBD\n\nSTAY in Walker:\n- Special rates by our fri
 ends at Chase on the Lake Resort\n- Enjoy a 2 night stay in a classic hote
 l room for $149 per night\, or a 2-3 night stay in a classic condo $229 pe
 r night\n- Breakfast included daily\n- Contact the Chase directly for avai
 lability at 1-888-242-7306\n\nPlease RSVP for the event here: https://save
 summer2018.eventbrite.com
CATEGORIES:Recreational Day Ride
LOCATION:Chase on the Lake Resort\, 502 Cleveland Blvd W\, Walker\, MN\, 56
 484\, United States
GEO:47.1036112;-94.58316669999999
X-APPLE-STRUCTURED-LOCATION;VALUE=URI;X-ADDRESS=502 Cleveland Blvd W\, Walk
 er\, MN\, 56484\, United States;X-APPLE-RADIUS=100;X-TITLE=Chase on the La
 ke Resort:geo:47.1036112,-94.58316669999999
END:VEVENT
BEGIN:VTIMEZONE
TZID:America/Chicago
X-LIC-LOCATION:America/Chicago
BEGIN:DAYLIGHT
DTSTART:20180311T030000
TZOFFSETFROM:-0600
TZOFFSETTO:-0500
TZNAME:CDT
END:DAYLIGHT
END:VTIMEZONE
END:VCALENDAR