BEGIN:VCALENDAR
VERSION:2.0
PRODID:-//wp-events-plugin.com//7.2.3.1//EN
TZID:America/Chicago
X-WR-TIMEZONE:America/Chicago
BEGIN:VEVENT
UID:54@havefunbiking.com
DTSTART;TZID=America/Chicago;VALUE=DATE:20170603
DTEND;TZID=America/Chicago;VALUE=DATE:20170604
DTSTAMP:20170123T151050Z
URL:https://havefunbiking.com/events/baycare-clinic-century/
SUMMARY:BayCare Clinic Century
DESCRIPTION:Join us on Saturday\, June 3 for the first BayCare Clinic Centu
 ry Bayshore to Lakeshore bike ride. It'll feature 100-\, 60- and 20-mile c
 ourses through scenic Brown\, Kewaunee and Door counties. The event will s
 tart and finish at the new BayCare Clinic corporate headquarters\, 1035 Ke
 pler Drive\, on Green Bay's east side. It benefits the BayCare Clinic Foun
 dation\, which supports health and wellness initiatives in the area.
ATTACH;FMTTYPE=image/jpeg:https://havefunbiking.com/wp-content/uploads/201
 7/01/Rider-1.jpg
LOCATION:BayCare Clinic Headquarters\, 1035 Kepler Drive\, Green Bay\, WI\,
  United States
GEO:44.481328;-87.93683199999998
X-APPLE-STRUCTURED-LOCATION;VALUE=URI;X-ADDRESS=1035 Kepler Drive\, Green B
 ay\, WI\, United States;X-APPLE-RADIUS=100;X-TITLE=BayCare Clinic Headquar
 ters:geo:44.481328,-87.93683199999998
END:VEVENT
BEGIN:VTIMEZONE
TZID:America/Chicago
X-LIC-LOCATION:America/Chicago
BEGIN:DAYLIGHT
DTSTART:20170312T030000
TZOFFSETFROM:-0600
TZOFFSETTO:-0500
TZNAME:CDT
END:DAYLIGHT
END:VTIMEZONE
END:VCALENDAR