BEGIN:VCALENDAR
VERSION:2.0
PRODID:-//wp-events-plugin.com//7.2.3.1//EN
TZID:America/Chicago
X-WR-TIMEZONE:America/Chicago
BEGIN:VEVENT
UID:240@havefunbiking.com
DTSTART;TZID=America/Chicago:20180916T070000
DTEND;TZID=America/Chicago:20180916T190000
DTSTAMP:20180807T233653Z
URL:https://havefunbiking.com/events/autumn-trek/
SUMMARY:20th Annual Autumn Trek Bike Tour
DESCRIPTION:20th Annual Autumn Trek Bike Tour on scenic country roads in we
 stern WI. Well marked 25\, 45\, 65 and 101 mile routes\, with full SAG sup
 port\, abundant rest stops with food and drink. There is a one-mile climb 
 on the 101 mile route. Post ride hot dog and brat lunch served at rides en
 d.\n\n20th Trek T-shirt too!\n\nCamping available at Hoffman Park and its 
 Bacon Fest weekend in River Falls. Register online www.rivervalleytrails.o
 rg or at the event Sept 16th from 7 to 9 a.m. Cycle jerseys may still be a
 vailable\, registration discounts end Sept 10\, helmets required.\n\nWe ha
 ve a great ride come and join us!
ATTACH;FMTTYPE=image/jpeg:https://havefunbiking.com/wp-content/uploads/201
 8/08/autumn_trek2018smwhite.jpg
CATEGORIES:Recreational Day Ride
LOCATION:Hoffman Park\, River Falls\, 547 Hanson Dr\, River Falls\, Wiscons
 in\, 54022\, St Croix County\, United States
GEO:44.8632931;-92.6088494
X-APPLE-STRUCTURED-LOCATION;VALUE=URI;X-ADDRESS=547 Hanson Dr\, River Falls
 \, Wisconsin\, 54022\, St Croix County\, United States;X-APPLE-RADIUS=100;
 X-TITLE=Hoffman Park\, River Falls:geo:44.8632931,-92.6088494
END:VEVENT
BEGIN:VTIMEZONE
TZID:America/Chicago
X-LIC-LOCATION:America/Chicago
BEGIN:DAYLIGHT
DTSTART:20180311T030000
TZOFFSETFROM:-0600
TZOFFSETTO:-0500
TZNAME:CDT
END:DAYLIGHT
END:VTIMEZONE
END:VCALENDAR