BEGIN:VCALENDAR
VERSION:2.0
PRODID:-//wp-events-plugin.com//7.2.3.1//EN
TZID:America/Chicago
X-WR-TIMEZONE:America/Chicago
BEGIN:VEVENT
UID:1104@havefunbiking.com
DTSTART;TZID=America/Chicago;VALUE=DATE:20250809
DTEND;TZID=America/Chicago;VALUE=DATE:20250810
DTSTAMP:20250111T220532Z
URL:https://havefunbiking.com/events/apple-blossom-bike-tour/
SUMMARY:Apple Blossom Bike Tour
DESCRIPTION:Come Ride With Us in La Crescent\, MN\, in The 12th Annual Appl
 e Blossom Bike Tour on August 9\, 2025!\nWe offer rides for every skill le
 vel. Enjoy the beautiful scenic driftless area in Southeast Minnesota.\nFo
 od and entertainment will be provided after the ride which is included wit
 h your registration. The ride is fully supported\, with plenty of rest sto
 ps along the way.\nFor more information on the Apple Blossom Bike Tour\nVi
 sit www.appleblossomtour.org to find out how to register.\n\nCheck out our
  photo gallery and route info. Please find us on Facebook at Appleblossomt
 our!
ATTACH;FMTTYPE=image/jpeg:https://havefunbiking.com/wp-content/uploads/202
 4/11/AppleBlossomBikeTourLogo-Green-01_24.png
CATEGORIES:Recreational Day Ride
LOCATION:Veterans Park\, 509 North Chestnut St\, La Crescent\, MN/Houston\,
  55947\, United States
GEO:43.8348775;-91.30115080000002
X-APPLE-STRUCTURED-LOCATION;VALUE=URI;X-ADDRESS=509 North Chestnut St\, La 
 Crescent\, MN/Houston\, 55947\, United States;X-APPLE-RADIUS=100;X-TITLE=V
 eterans Park:geo:43.8348775,-91.30115080000002
END:VEVENT
BEGIN:VTIMEZONE
TZID:America/Chicago
X-LIC-LOCATION:America/Chicago
BEGIN:DAYLIGHT
DTSTART:20250309T030000
TZOFFSETFROM:-0600
TZOFFSETTO:-0500
TZNAME:CDT
END:DAYLIGHT
END:VTIMEZONE
END:VCALENDAR