BEGIN:VCALENDAR
VERSION:2.0
PRODID:-//wp-events-plugin.com//7.2.3.1//EN
TZID:America/Chicago
X-WR-TIMEZONE:America/Chicago
BEGIN:VEVENT
UID:81@havefunbiking.com
DTSTART;TZID=America/Chicago:20170520T080000
DTEND;TZID=America/Chicago:20170520T160000
DTSTAMP:20170322T195115Z
URL:https://havefunbiking.com/events/als-bike-trek-mn/
SUMMARY:ALS Bike Trek MN
DESCRIPTION:The 8th annual ALS Bike Trek MN registration will open from 8:0
 0am until 10:30am at Big Marine Park Reserve. Participants will ride out i
 n waves starting at 9:00 am. Each loop along the scenic roads of Washingto
 n County varies by experience level. The route will be fully marked and su
 pported. There are 2 rest areas. One rest area at Hay Lake where everyone 
 can stop and then a rest area at Pine Point for the longer routes.\n\nAfte
 r the ride we will have a BBQ and music.\n\nFollow this link to view the m
 ap of the ride. https://alsmn.als.net/docs/pdf/alsbiketrekmap.pdf\n\nRoute
  changes may be made prior to the event. A final map will be provided to y
 ou when you arrive.\n\nFundrasing is OPTIONAL!!!\n\nFor more information p
 lease reach out to alsbiketrekmn@als.net for more information and submit a
 ll RSVPs to Emer Martin at emartin@als.net.
ATTACH;FMTTYPE=image/jpeg:https://havefunbiking.com/wp-content/uploads/201
 7/03/FB.jpg
CATEGORIES:Recreational Day Ride
LOCATION:Big Marine Park Reserve\, 17495 Manning Trail N\, Marine on St. Cr
 oix\, MN/Washington\, 55047\, United States
GEO:45.2031314;-92.88388229999998
X-APPLE-STRUCTURED-LOCATION;VALUE=URI;X-ADDRESS=17495 Manning Trail N\, Mar
 ine on St. Croix\, MN/Washington\, 55047\, United States;X-APPLE-RADIUS=10
 0;X-TITLE=Big Marine Park Reserve:geo:45.2031314,-92.88388229999998
END:VEVENT
BEGIN:VTIMEZONE
TZID:America/Chicago
X-LIC-LOCATION:America/Chicago
BEGIN:DAYLIGHT
DTSTART:20170312T030000
TZOFFSETFROM:-0600
TZOFFSETTO:-0500
TZNAME:CDT
END:DAYLIGHT
END:VTIMEZONE
END:VCALENDAR