BEGIN:VCALENDAR
VERSION:2.0
PRODID:-//wp-events-plugin.com//7.2.3.1//EN
TZID:America/Chicago
X-WR-TIMEZONE:America/Chicago
BEGIN:VEVENT
UID:593@havefunbiking.com
DTSTART;TZID=America/Chicago:20210918T080000
DTEND;TZID=America/Chicago:20210918T150000
DTSTAMP:20210604T152353Z
URL:https://havefunbiking.com/events/als-bike-ride-2021-for-marks-team/
SUMMARY:ALS Bike Ride 2021 for Mark's Team
DESCRIPTION:We bike to raise awareness of ALS and the need for research dol
 lars. Join Mark's Team on September 19\, 2020\, for a 28 or 53-mile ALS Bi
 ke Ride\, touring around the lakes near Scandia\, MN.\n\nThe ride supports
  research for a treatment and cure of ALS (Lou Gehrig’s disease).  The 
 routes start and end in Scandia\, MN\, and you will find more information 
 at the Hiawatha Bicycling Club ride calendar for September 19.\n\n&nbsp\;
ATTACH;FMTTYPE=image/jpeg:https://havefunbiking.com/wp-content/uploads/202
 1/05/4130d784-63f9-4e15-aa2d-7a43479ef8d0.jpg
CATEGORIES:Recreational Day Ride
LOCATION:Scandia City Hall &amp\; Community Center\, 14727 209th Street N\,
  Scandia\, MN\, 55073\, Washington County\, United States
X-APPLE-STRUCTURED-LOCATION;VALUE=URI;X-ADDRESS=14727 209th Street N\, Scan
 dia\, MN\, 55073\, Washington County\, United States;X-APPLE-RADIUS=100;X-
 TITLE=Scandia City Hall & Community Center:geo:0,0
END:VEVENT
BEGIN:VTIMEZONE
TZID:America/Chicago
X-LIC-LOCATION:America/Chicago
BEGIN:DAYLIGHT
DTSTART:20210314T030000
TZOFFSETFROM:-0600
TZOFFSETTO:-0500
TZNAME:CDT
END:DAYLIGHT
END:VTIMEZONE
END:VCALENDAR