BEGIN:VCALENDAR
VERSION:2.0
PRODID:-//wp-events-plugin.com//7.2.3.1//EN
TZID:America/Chicago
X-WR-TIMEZONE:America/Chicago
BEGIN:VEVENT
UID:597@havefunbiking.com
DTSTART;TZID=America/Chicago:20210822T073000
DTEND;TZID=America/Chicago:20210822T143000
DTSTAMP:20210628T123606Z
URL:https://havefunbiking.com/events/7th-annual-robs-sugar-river-ramble/
SUMMARY:7th Annual Rob’s Sugar River Ramble
DESCRIPTION:On Rob’s Sugar River Ramble connect with Wisconsin's\, Upper 
 River Watershed by land and water as you cycle through the rolling country
 side beginning in Mount Horeb\, WI\, on August 22. Then paddle the sparkli
 ng Sugar River until you reach your destination near Paoli\, WI. After the
  event\, get transported back to Mount Horeb with your fellow participants
  for a locally-sourced feast\, beer tasting and entertainment from 11 am-2
  pm. Find out more Here.
ATTACH;FMTTYPE=image/jpeg:https://havefunbiking.com/wp-content/uploads/202
 1/06/ramble-event-featured-image.png
CATEGORIES:Multi-Sport Event
LOCATION:Waltz Park\, 608 Reid Drive\, Mt Horeb\, WI\, United States
X-APPLE-STRUCTURED-LOCATION;VALUE=URI;X-ADDRESS=608 Reid Drive\, Mt Horeb\,
  WI\, United States;X-APPLE-RADIUS=100;X-TITLE=Waltz Park:geo:0,0
END:VEVENT
BEGIN:VTIMEZONE
TZID:America/Chicago
X-LIC-LOCATION:America/Chicago
BEGIN:DAYLIGHT
DTSTART:20210314T030000
TZOFFSETFROM:-0600
TZOFFSETTO:-0500
TZNAME:CDT
END:DAYLIGHT
END:VTIMEZONE
END:VCALENDAR