BEGIN:VCALENDAR
VERSION:2.0
PRODID:-//wp-events-plugin.com//7.2.3.1//EN
TZID:America/Chicago
X-WR-TIMEZONE:America/Chicago
BEGIN:VEVENT
UID:2082@havefunbiking.com
DTSTART;TZID=America/Chicago:20260801T070000
DTEND;TZID=America/Chicago:20260803T193000
DTSTAMP:20260307T180728Z
URL:https://havefunbiking.com/events/30th-annual-cowalunga-charity-bike-to
 ur/
SUMMARY:30th Annual CowaLUNGa® Charity Bike Tour
DESCRIPTION:Respiratory Health Association is proud to host the 30th Annual
  CowaLUNGa® Charity Bike Tour this year! This year will include the retur
 n of the Three Day Ride and mark the final year of CowaLUNGa. Stay tuned f
 or more information on our brand-new bike ride coming in 2027.\n\nEscape t
 he bustle of daily life for a One Day Ride (18\, 30\, or 65 miles)\, a Two
  Day Ride (135 miles)\, or a Three Day Ride (190 miles)\, pedaling over ro
 lling hills through northern Illinois into southern Wisconsin. Along the w
 ay\, you’ll experience an unparalleled level of camaraderie and support 
 from other cyclists and the Respiratory Health Association\, while helping
  RHA achieve its vision of healthy lungs and clean air for all.
CATEGORIES:Recreational Multi-Day Tour
END:VEVENT
BEGIN:VTIMEZONE
TZID:America/Chicago
X-LIC-LOCATION:America/Chicago
BEGIN:DAYLIGHT
DTSTART:20260308T030000
TZOFFSETFROM:-0600
TZOFFSETTO:-0500
TZNAME:CDT
END:DAYLIGHT
END:VTIMEZONE
END:VCALENDAR