BEGIN:VCALENDAR
VERSION:2.0
PRODID:-//wp-events-plugin.com//7.2.3.1//EN
TZID:America/Chicago
X-WR-TIMEZONE:America/Chicago
BEGIN:VEVENT
UID:807@havefunbiking.com
DTSTART;TZID=America/Chicago:20230729T090000
DTEND;TZID=America/Chicago:20230731T203000
DTSTAMP:20230430T223556Z
URL:https://havefunbiking.com/events/2023-cowalunga-charity-bike-tour/
SUMMARY:2023 CowaLUNGa&#x2122\; Charity Bike Tour
DESCRIPTION:For 27 years\, Respiratory Health Association has proudly hoste
 d CowaLUNGa Charity Bike Tour. Loyal riders like you help us continue our 
 work toward healthy lungs and clean air.\n\nEscape the bustle for a weeken
 d pedaling over rolling hills through northern Illinois into southern Wisc
 onsin. The ride is on July 29 - 31\, 2023. Starting on Saturday\, July 29\
 , you can choose either a One Day Ride (18 or 65 miles)\, a Two Day Ride (
 130 miles)\, or a Three Day Ride (190 miles).\nNew bike tour details\nNew 
 in 2023* Join us beginning on day 2 (Sunday\, July 30) for a 100-mile cent
 ury ride. Along the way\, you’ll experience an unparalleled level of ca
 maraderie and support from other cyclists and the Respiratory Health Assoc
 iation\, while helping us achieve our vision of healthy lungs and clean ai
 r for all.\nHave a question about CowaLUNGa’s 27th Annual Ride?\nClick H
 ere  https://resphealth.org/specialevents/cowalunga-charity-bike-tour/
ATTACH;FMTTYPE=image/jpeg:https://havefunbiking.com/wp-content/uploads/202
 3/04/cow-logo-transparent-background-2-600x272-1.png
CATEGORIES:Recreational Multi-Day Tour
LOCATION:Gurnee Mills Mall\, 6170 W Grand Ave\, Gurnee\, IL\, 60031\, Unite
 d States
X-APPLE-STRUCTURED-LOCATION;VALUE=URI;X-ADDRESS=6170 W Grand Ave\, Gurnee\,
  IL\, 60031\, United States;X-APPLE-RADIUS=100;X-TITLE=Gurnee Mills Mall:g
 eo:0,0
END:VEVENT
BEGIN:VTIMEZONE
TZID:America/Chicago
X-LIC-LOCATION:America/Chicago
BEGIN:DAYLIGHT
DTSTART:20230312T030000
TZOFFSETFROM:-0600
TZOFFSETTO:-0500
TZNAME:CDT
END:DAYLIGHT
END:VTIMEZONE
END:VCALENDAR