BEGIN:VCALENDAR
VERSION:2.0
PRODID:-//wp-events-plugin.com//7.2.3.1//EN
TZID:America/Chicago
X-WR-TIMEZONE:America/Chicago
BEGIN:VEVENT
UID:35@havefunbiking.com
DTSTART;TZID=America/Chicago;VALUE=DATE:20160820
DTEND;TZID=America/Chicago;VALUE=DATE:20160821
DTSTAMP:20160712T185341Z
URL:https://havefunbiking.com/events/2017-square-lake-film-music-festival/
SUMMARY:2017 Square Lake Film &amp\; Music Festival
DESCRIPTION:The Square Lake Film &amp\; Music Festival is a day-long celebr
 ation of Minnesota-made music and film\, held on a scenic hobby farm in St
 illwater\, MN on August 20th in 2016. The festival property is within 3 mi
 les of the Gateway Bike Trail\, and groups leaving from The Hub in Minneap
 olis or Cycles for Change in St. Paul received 1/2 price admission on tick
 ets purchased in advance ($15 bicycle/$30 regular/$35 for all at the door)
 . Our sponsors\, Peace Coffee and Summit\, provide sag wagons that will ha
 ul your camping gear to the festival grounds for you. Pitch your tent on o
 ur lawn for free and enjoy the show! This year's musical acts include The 
 Cactus Blossoms\, The Blind Shake\, Zulu Zuluu\, and more. Short films wil
 l be screened throughout the day and night and two films will be scored li
 ve at the event. Kids 12 and under are free - visit our website for additi
 onal details.
CATEGORIES:Recreational Multi-Day Tour
LOCATION:Square Lake Film &amp\; Music Festival\, 13359 Partridge Road N\, 
 Stillwater\, MN\, 55082\, United States
GEO:45.14219;-92.792392
X-APPLE-STRUCTURED-LOCATION;VALUE=URI;X-ADDRESS=13359 Partridge Road N\, St
 illwater\, MN\, 55082\, United States;X-APPLE-RADIUS=100;X-TITLE=Square La
 ke Film & Music Festival:geo:45.14219,-92.792392
END:VEVENT
BEGIN:VTIMEZONE
TZID:America/Chicago
X-LIC-LOCATION:America/Chicago
BEGIN:DAYLIGHT
DTSTART:20160313T030000
TZOFFSETFROM:-0600
TZOFFSETTO:-0500
TZNAME:CDT
END:DAYLIGHT
END:VTIMEZONE
END:VCALENDAR